BEGIN:VCALENDAR
VERSION:2.0
METHOD:PUBLISH
PRODID::-//Obvius//NONSGML ICal//DA
BEGIN:VEVENT
UID:5032339@plen.ku.dk
DESCRIPTION:Cover Crops for Climate Change Mitigation Soil Carbon Sequestr
 ation and Nitrous Oxide Emissions in Temperate Cropping Systems\n\nhttps:/
 /plen.ku.dk/english/calendar/2026/phd-defence---maria-skovgaard-andersen/
SUMMARY:PhD defence - Maria Skovgaard Andersen
CATEGORIES:Ph.d.-forsvar
LOCATION:Auditorium A2-81.01\, Thorvaldsensvej 40\, 1871 Frederiksberg C
DTSTART:20260505T110000Z
DTSTAMP:20260505T110000Z
END:VEVENT
BEGIN:VEVENT
UID:5022290@plen.ku.dk
DESCRIPTION:Exploring the latest advances in genomics and genome editing i
 n the context of crop improvement\n\nhttps://plen.ku.dk/english/calendar/2
 026/phd-course-biotechnological-advances-for-future-crop-production/
SUMMARY:PhD Summer School 2026 - Biotechnological advances for future crop
  production
CATEGORIES:Sommerskole
LOCATION:Thorvaldsensvej 40\, 1871 Frederiksberg C
ORGANIZER:Department of Plant and Environmental Sciences
DTSTART:20260823T220000Z
DTSTAMP:20260823T220000Z
DTEND:20260827T220000Z
END:VEVENT
END:VCALENDAR
